BEGIN:VCALENDAR
VERSION:2.0
PRODID:icalendar-ruby
CALSCALE:GREGORIAN
METHOD:PUBLISH
BEGIN:VEVENT
DTSTAMP:20260422T084117Z
UID:e6dbedf0-aeb4-415b-8f5a-5ec10baf271b
DTSTART:20241231T060000
DTEND:20250101T040000
DESCRIPTION:<p><strong>Neon Safari NYE</strong></p><p><strong> </strong></
 p><p> </p><p>It's a Bright Summer Vibe at Harringtons & District this Fes
 tive season with Neon Safari.</p><p> </p><p>Time to celebrate with bright
 s\, your summer glow up and neon UV nights with an avant-garde approach to
  New Year in Cape Town.</p><p> </p><p>This year\, we will launch into the
  new year with a party that that puts a glow on the NYE night.</p><p> </p
 ><p>Join us on one of the three Dance floors with an amazing lineup of our
  House DJs and special guests\, promising a Neon night to remember.</p><p>
  </p><p>Harringtons & District will explode with massive visuals\, Neon 
 explosions\, mirror ball mayhem and Uv performances to kick-start the New
  Year.</p><p> </p><p> </p><p>True to Harringtons style\, we're offering 
 an evening of delectable cocktails\, mouth watering canapés\, floating-st
 yle dinner\, and glowing entertainment to slingshot your Kalidoscope party
  into 2025 !</p><p> </p><p> </p><p>Book a booth and arrive dressed to en
 joy dinner from 6:30 PM.</p><p> </p><p>Alternatively\, step in with style
  just in time for the Neon explosion for the party at 9:00 PM</p><p> </p>
 <p>When the Harrys & District resident DJs with headliner DJ lineup lights
  up on all three dance floors.</p><p> </p><p>Sprays and popping bottles o
 f bubbly at midnight explosions of Neon will go off at 12 and continuing t
 o pop with colour until 4 AM.</p><p> </p><p>The Best Dressed Neon individ
 ual and Colourful Couples will each receive a bottle of the finest Bubble
 s and Nectar.</p><p> </p><p> </p><p>DJ LINEUP</p><p> </p><p>MIA</p><p>C
 ASTO</p><p>CHUNDA MUNKI</p><p>DJ VIKTORIA</p><p>KAT LUZ</p><p>ALLEY SA</p>
 <p>DAVE CARTER</p><p>GARY NIGHT</p><p> </p><p> </p><p>STEPHY LONGUIERA</
 p><p>DISCO DEZ</p><p> </p><p>and further line up & performance Artists to
  be announced !!</p><p> </p><p> </p><p><strong>TICKETS!</strong></p><p><
 strong> </strong></p><p><strong>Harringtons Booth Cocktail Dinner from 6:
 00 PM – served until 10:00 PM</strong></p><ul><li>Price: R950.00 per per
 son.</li><li>Booths available for 6 - 15 people.</li><li>Includes a welcom
 e Safari cocktail\, canapés & cocktail bowl dinner\, a glass of bubbly at
  midnight\, and partying until 4 AM.</li></ul><p> </p><p><strong>Party On
 ly from 8:30 PM</strong></p><ul><li>Includes a glass of bubbly at midnight
  and partying until 4 AM with the VIP lineup of DJs.</li><li>Super Early N
 eon – VIP All access: R175 per person – SOLD OUT (from 8:30 PM)</li><l
 i>Early Neon - VIP all access: R250 per person - LIMITED</li><li>Late Neon
  - VIP All Access pre-purchase Party only from 8 PM: R300 per person – L
 IMITED</li><li>General Neon at the door- VIP all access : R350 per person 
 – 8:30 PM onwards</li></ul><p> </p><ul><li>2025 Closing Set Tickets 1:3
 0 AM - 4 AM: R150 (early bird – limited)</li></ul><p> </p><p><strong>Pa
 rty Only from 7:00 PM</strong></p><ul><li>Surfa Rosa early bird: R100 - SO
 LD OUT</li><li>Surfa Rosa - Locals: R150</li><li> </li></ul><p><strong>VI
 P BOOKINGS!</strong> For more information\, to book and purchase VIP Booth
  Cocktail Dinner tickets\, or to discuss larger groups\, please contact us
 :</p><p><br></p><h3 class="ql-align-center"><strong><u>NEON SAFARI DINNER 
 MENU</u></strong></h3><p><br></p><p class="ql-align-center"><strong><u>CAN
 APES:</u></strong></p><p class="ql-align-center">Oysters with Sauce Mignon
 ette</p><p class="ql-align-center">Mushroom & Mozzarella Arancini with gar
 lic aioli</p><p class="ql-align-center">Teriyaki Chicken Skewers with char
 red spring onions</p><p class="ql-align-center">Tempura cauliflower with s
 ticky Korean sauce</p><p class="ql-align-center">Caprese skewers with bals
 amic drizzle</p><p class="ql-align-center">Smoked salmon tartare cucumber 
 bites with creme fraiche and chives</p><p class="ql-align-center">Beef kof
 tes with minted yoghurt and sumac</p><p class="ql-align-center">Seared Pra
 wns with nim jam sauce</p><p class="ql-align-center"><br></p><p class="ql-
 align-center"><strong><u>COCKTAIL BOWL FOOD:</u></strong></p><p class="ql-
 align-center">Lemon chicken\, herbed orzo with roasted cherry tomatoes and
  parmesan</p><p class="ql-align-center">Pumpkin Risotto with miso butter\,
  sage and macadamia nuts.</p><p class="ql-align-center">Braised lamb\, Ros
 emary Mash and baby veg</p><p class="ql-align-center"><br></p><p class="ql
 -align-center"><strong><u>DESSERTS:</u></strong></p><p class="ql-align-cen
 ter">Dark chocolate brownies with miso caramel</p><p class="ql-align-cente
 r">Coconut & lemon squares</p><p class="ql-align-center">Macarons</p><p cl
 ass="ql-align-center">Email: <a href="mailto:bookings@harringtonstreet.co.
 za" target="_blank" style="color: rgb(118\, 79\, 219)\;">bookings@harringt
 onstreet.co.za</a> Website: <a href="http://www.harringtonstreet.co.za/" t
 arget="_blank" style="color: rgb(118\, 79\, 219)\;">www.harringtonstreet.c
 o.za</a></p><p><br></p>
LOCATION:61C Harrington Street  - Cape Town
SUMMARY:Neon Safari - NYE 
URL;VALUE=URI:https://harringtons.howler.co.za/NeonsafariNYE
END:VEVENT
END:VCALENDAR
